BEGIN:VCALENDAR
VERSION:2.0
CALSCALE:GREGORIAN
PRODID:-//Diputació de Barcelona//DibaCMS//EN
BEGIN:VEVENT
UID:5163
DTSTAMP:20260425T045848
DTSTART:20221225T190000
DTEND:20221225T190000
SUMMARY:Concert de Nadal Coral Laetare
LOCATION:c. Jovara, 39 08370 Calella
METHOD:PUBLISH
X-WR-CALNAME:calella@calella.cat
X-WR-TIMEZONE:Europe/Madrid
DESCRIPTION:
URI:https://www.calella.cat/actualitat/agenda/concert-de-nadal-coral-laetare.html
CLASS:PUBLIC
END:VEVENT
END:VCALENDAR
