BEGIN:VCALENDAR
VERSION:2.0
CALSCALE:GREGORIAN
PRODID:-//Diputació de Barcelona//DibaCMS//EN
BEGIN:VEVENT
UID:5119
DTSTAMP:20260424T233047
DTSTART:20221210T090000
DTEND:20221210T170000
SUMMARY:Copa Catalana de Quidditch
LOCATION:c. Llobet i Guri, s/n 08370 Calella
METHOD:PUBLISH
X-WR-CALNAME:calella@calella.cat
X-WR-TIMEZONE:Europe/Madrid
DESCRIPTION:Organitza: Associació de Quidditch de Catalunya (AQC). Col•labora: Ajuntament de Calella. Per a més informació al 93 769 72 40.

URI:https://www.calella.cat/actualitat/agenda/copa-catalana-de-quidditch.html
CLASS:PUBLIC
END:VEVENT
END:VCALENDAR
