BEGIN:VCALENDAR
VERSION:2.0
CALSCALE:GREGORIAN
PRODID:-//Diputació de Barcelona//DibaCMS//EN
BEGIN:VEVENT
UID:5118
DTSTAMP:20260424T221924
DTSTART:20221101T000000
DTEND:20221130T000000
SUMMARY:Agenda d'activitats de novembre de 2022
LOCATION:
METHOD:PUBLISH
X-WR-CALNAME:calella@calella.cat
X-WR-TIMEZONE:Europe/Madrid
DESCRIPTION:
URI:https://www.calella.cat/actualitat/agenda/5118-agenda-dactivitats-de-novembre-de-2022.html
CLASS:PUBLIC
END:VEVENT
END:VCALENDAR
