BEGIN:VCALENDAR
VERSION:2.0
CALSCALE:GREGORIAN
PRODID:-//Diputació de Barcelona//DibaCMS//EN
BEGIN:VEVENT
UID:5115
DTSTAMP:20260424T221725
DTSTART:20221201T000000
DTEND:20230108T000000
SUMMARY:Campanya de Nadal “SumaQuilòmetres... i SumaDiners"
LOCATION:
METHOD:PUBLISH
X-WR-CALNAME:calella@calella.cat
X-WR-TIMEZONE:Europe/Madrid
DESCRIPTION:Comença la campanya de Nadal de l’Associació de Comerciants Calella Centre Comercial. “SumaQuilòlmetres... i SumaDiners”.

URI:https://www.calella.cat/actualitat/agenda/campanya-de-nadal-sumaquilometres-i-sumadiners.html
CLASS:PUBLIC
END:VEVENT
END:VCALENDAR
