BEGIN:VCALENDAR
VERSION:2.0
CALSCALE:GREGORIAN
PRODID:-//Diputació de Barcelona//DibaCMS//EN
BEGIN:VEVENT
UID:5088
DTSTAMP:20260424T204127
DTSTART:20220923T000000
DTEND:20221211T000000
SUMMARY:Exposició itinerant "Estiueig de proximitat, 1850-1950" (visita comentada el 30 de setembre a les 18:30 h)
LOCATION:Plaça de l'Ajuntament, 1-3 08370 Calella
METHOD:PUBLISH
X-WR-CALNAME:calella@calella.cat
X-WR-TIMEZONE:Europe/Madrid
DESCRIPTION:No et perdis l'exposició itinerant "Estiueig de proximitat, 1850-1950", dedicada a l'origen i el llegat del primer turisme!

La mostra presenta un àmbit específic dedicat a Calella amb fotografies provinents de l’Arxiu Històric Municipal i d’arxius familiars sobre els banys i moments de sociabilitat dels primers estiuejants

URI:https://www.calella.cat/actualitat/agenda/exposicio-itinerant-estiueig-de-proximitat-1850-1950-visita-comentada-el-30-de-setembre-a-les-1830-h.html
CLASS:PUBLIC
END:VEVENT
END:VCALENDAR
