BEGIN:VCALENDAR
VERSION:2.0
CALSCALE:GREGORIAN
PRODID:-//Diputació de Barcelona//DibaCMS//EN
BEGIN:VEVENT
UID:5068
DTSTAMP:20260425T014340
DTSTART:20221008T000000
DTEND:20230115T000000
SUMMARY:Maria Mercader. Mostra de l'exposició "El món com a meditació"
LOCATION:c. Escoles Pies, 36 08370 Calella
METHOD:PUBLISH
X-WR-CALNAME:calella@calella.cat
X-WR-TIMEZONE:Europe/Madrid
DESCRIPTION:No et perdis aquesta exposició en la qual contemplaràs part de l'obra de Maria Mercader.

URI:https://www.calella.cat/actualitat/agenda/maria-mercader-mostra-de-lexposicio-el-mon-com-a-meditacio.html
CLASS:PUBLIC
END:VEVENT
END:VCALENDAR
