BEGIN:VCALENDAR
VERSION:2.0
CALSCALE:GREGORIAN
PRODID:-//Diputació de Barcelona//DibaCMS//EN
BEGIN:VEVENT
UID:5067
DTSTAMP:20260424T203714
DTSTART:20221008T000000
DTEND:20230115T000000
SUMMARY:Exposició col·lectiva de pintura i escultura "Art endins"
LOCATION:c. Escoles Pies, 36 08370 Calella
METHOD:PUBLISH
X-WR-CALNAME:calella@calella.cat
X-WR-TIMEZONE:Europe/Madrid
DESCRIPTION:No et perdis l'exposició "Art endins", que ens condueix a un BigBang personal a través de l’art. 

 

URI:https://www.calella.cat/actualitat/agenda/exposicio-collectiva-de-pintura-i-escultura-art-endins.html
CLASS:PUBLIC
END:VEVENT
END:VCALENDAR
