BEGIN:VCALENDAR
VERSION:2.0
CALSCALE:GREGORIAN
PRODID:-//Diputació de Barcelona//DibaCMS//EN
BEGIN:VEVENT
UID:5065
DTSTAMP:20260424T173848
DTSTART:20220916T000000
DTEND:20221211T000000
SUMMARY:Exposició les filles de Durga, d'Eva Parey
LOCATION:c. Sant Pere, 122-140 08370 Calella
METHOD:PUBLISH
X-WR-CALNAME:calella@calella.cat
X-WR-TIMEZONE:Europe/Madrid
DESCRIPTION:No et perdis l'exposició temporal "les filles de Durga", d'Eva Parey, que estarà disponible fins l'11 de desembre.

URI:https://www.calella.cat/actualitat/agenda/exposicio-les-filles-de-durga-deva-parey.html
CLASS:PUBLIC
END:VEVENT
END:VCALENDAR
