BEGIN:VCALENDAR
VERSION:2.0
CALSCALE:GREGORIAN
PRODID:-//Diputació de Barcelona//DibaCMS//EN
BEGIN:VEVENT
UID:5059
DTSTAMP:20260424T235656
DTSTART:20221003T000000
DTEND:20221031T000000
SUMMARY:Preinscripció als cursos de preparació de les proves d’accés a cicles formatius
LOCATION:c. Sant Pere, 152 08370 Calella
METHOD:PUBLISH
X-WR-CALNAME:calella@calella.cat
X-WR-TIMEZONE:Europe/Madrid
DESCRIPTION:El Centre de Formació Permanent Francesc Grau i Viader de Calella tornarà a oferir els cursos de preparació de les proves d’accés a cicles formatius de grau mitjà i superior, que es realitzaran el maig del 2023.

URI:https://www.calella.cat/actualitat/agenda/preinscripcio-als-cursos-de-preparacio-de-les-proves-dacces-a-cicles-formatius.html
CLASS:PUBLIC
END:VEVENT
END:VCALENDAR
