BEGIN:VCALENDAR
VERSION:2.0
CALSCALE:GREGORIAN
PRODID:-//Diputació de Barcelona//DibaCMS//EN
BEGIN:VEVENT
UID:4978
DTSTAMP:20260424T235751
DTSTART:20220724T180000
DTEND:20220724T190000
SUMMARY:Actuació de dansa infantil i juvenil de l'escola Bilans - Estudi de dansa de Calella 
LOCATION:c. Església, 91 08370 Calella
METHOD:PUBLISH
X-WR-CALNAME:calella@calella.cat
X-WR-TIMEZONE:Europe/Madrid
DESCRIPTION:Amb motiu de recaptar donatius pels programes assistencials de l’Associació de Voluntaris i Amics de l’Hospital Sant Jaume de Calella

URI:https://www.calella.cat/actualitat/agenda/actuacio-de-dansa-infantil-i-juvenil-de-lescola-bilans-estudi-de-dansa-de-calella-.html
CLASS:PUBLIC
END:VEVENT
END:VCALENDAR
