BEGIN:VCALENDAR
VERSION:2.0
CALSCALE:GREGORIAN
PRODID:-//Diputació de Barcelona//DibaCMS//EN
BEGIN:VEVENT
UID:4977
DTSTAMP:20260424T220432
DTSTART:20220712T000000
DTEND:20220729T000000
SUMMARY:Curs d'acreditació ACTIC nivell bàsic
LOCATION:c. Sant Jaume, 225-229 08370 Calella
METHOD:PUBLISH
X-WR-CALNAME:calella@calella.cat
X-WR-TIMEZONE:Europe/Madrid
DESCRIPTION:Inscriu-te al curs ACTIC nivell bàsic i mitjà que comença el setembre. Apunta't trucant al 937 663 101, aj035.promocioeconomica@calella.cat o a Can Saleta.

URI:https://www.calella.cat/actualitat/agenda/curs-dacreditacio-actic-nivell-basic.html
CLASS:PUBLIC
END:VEVENT
END:VCALENDAR
