BEGIN:VCALENDAR
VERSION:2.0
CALSCALE:GREGORIAN
PRODID:-//Diputació de Barcelona//DibaCMS//EN
BEGIN:VEVENT
UID:4973
DTSTAMP:20260424T174019
DTSTART:20220713T180000
DTEND:20220713T180000
SUMMARY:Hora del conte: "El peix Irisat" de Marcus Pfister
LOCATION:Plaça de l'Ajuntament, 31 08370 Calella
METHOD:PUBLISH
X-WR-CALNAME:calella@calella.cat
X-WR-TIMEZONE:Europe/Madrid
DESCRIPTION:Vine a l'hora del compte a la Biblioteca!

URI:https://www.calella.cat/actualitat/agenda/hora-del-conte-el-peix-irisat-de-marcus-pfister.html
CLASS:PUBLIC
END:VEVENT
END:VCALENDAR
