BEGIN:VCALENDAR
VERSION:2.0
CALSCALE:GREGORIAN
PRODID:-//Diputació de Barcelona//DibaCMS//EN
BEGIN:VEVENT
UID:4967
DTSTAMP:20260424T203952
DTSTART:20220709T120000
DTEND:20220710T020000
SUMMARY:Festival Cultura Viva de música jamaicana
LOCATION:Platja de Garbí 08370 Calella
METHOD:PUBLISH
X-WR-CALNAME:calella@calella.cat
X-WR-TIMEZONE:Europe/Madrid
DESCRIPTION:No et perdis el Festival Cultura Viva amb les actuacions de reagge de Stranger Cole, Irie Souljah, Ital Youth, Pau Dangla, High Vires Int, Blackup i molts més!

URI:https://www.calella.cat/actualitat/agenda/festival-cultura-viva-de-musica-jamaicana.html
CLASS:PUBLIC
END:VEVENT
END:VCALENDAR
