BEGIN:VCALENDAR
VERSION:2.0
CALSCALE:GREGORIAN
PRODID:-//Diputació de Barcelona//DibaCMS//EN
BEGIN:VEVENT
UID:4963
DTSTAMP:20260424T190726
DTSTART:20220706T210000
DTEND:20220706T223000
SUMMARY:[Esdeveniment ANUL·LAT] Assaig obert FildeGospel 
LOCATION:Plaça de l'Ajuntament, 31 08370 Calella
METHOD:PUBLISH
X-WR-CALNAME:calella@calella.cat
X-WR-TIMEZONE:Europe/Madrid
DESCRIPTION:[Esdeveniment ANUL·LAT] Apropa't a l'assaig obert de FildeGospel, un concert amb un repertori molt variat sota la direcció de Rubén Espinosa!

URI:https://www.calella.cat/actualitat/agenda/esdeveniment-anullat-assaig-obert-fildegospel-.html
CLASS:PUBLIC
END:VEVENT
END:VCALENDAR
