BEGIN:VCALENDAR
VERSION:2.0
CALSCALE:GREGORIAN
PRODID:-//Diputació de Barcelona//DibaCMS//EN
BEGIN:VEVENT
UID:4962
DTSTAMP:20260424T232548
DTSTART:20220705T000000
DTEND:20220705T000000
SUMMARY:Conferència "L’ecosistema marí de l'Alt Maresme en els darrers anys"
LOCATION:c. Sant Jaume, 225-229 08370 Calella
METHOD:PUBLISH
X-WR-CALNAME:calella@calella.cat
X-WR-TIMEZONE:Europe/Madrid
DESCRIPTION:
URI:https://www.calella.cat/actualitat/agenda/conferencia-lecosistema-mari-de-lalt-maresme-en-els-darrers-anys.html
CLASS:PUBLIC
END:VEVENT
END:VCALENDAR
