BEGIN:VCALENDAR
VERSION:2.0
CALSCALE:GREGORIAN
PRODID:-//Diputació de Barcelona//DibaCMS//EN
BEGIN:VEVENT
UID:4952
DTSTAMP:20260424T083509
DTSTART:20220628T183000
DTEND:20220628T183000
SUMMARY:Concert del Saint Laurentius Choir
LOCATION:c. Raval, 1 08370 Calella
METHOD:PUBLISH
X-WR-CALNAME:calella@calella.cat
X-WR-TIMEZONE:Europe/Madrid
DESCRIPTION:La Parròquia de Santa Maria i Sant Nicolau acull un concert de música sacra i litúrgica contemporània a càrrec del Director Mr. Pål Rullestad.

URI:https://www.calella.cat/actualitat/agenda/concert-del-saint-laurentius-choir.html
CLASS:PUBLIC
END:VEVENT
END:VCALENDAR
