BEGIN:VCALENDAR
VERSION:2.0
CALSCALE:GREGORIAN
PRODID:-//Diputació de Barcelona//DibaCMS//EN
BEGIN:VEVENT
UID:4951
DTSTAMP:20260424T120356
DTSTART:20220702T183000
DTEND:20220702T183000
SUMMARY:Concert benèfic de música ucraïnesa
LOCATION:c. Raval, 1 08370 Calella
METHOD:PUBLISH
X-WR-CALNAME:calella@calella.cat
X-WR-TIMEZONE:Europe/Madrid
DESCRIPTION:Vine al concert benèfic de música ucraïnesa a càrrec de cantants i músics ucraïnesos acollits al Maresme.

URI:https://www.calella.cat/actualitat/agenda/concert-benefic-de-musica-ucrainesa.html
CLASS:PUBLIC
END:VEVENT
END:VCALENDAR
