BEGIN:VCALENDAR
VERSION:2.0
CALSCALE:GREGORIAN
PRODID:-//Diputació de Barcelona//DibaCMS//EN
BEGIN:VEVENT
UID:4950
DTSTAMP:20260424T120808
DTSTART:20220629T190000
DTEND:20220629T211500
SUMMARY:Sessió de Cinema solidari amb la projecció del film Mother of Apostles
LOCATION:c. Sant Jaume, 225-229 08370 Calella
METHOD:PUBLISH
X-WR-CALNAME:calella@calella.cat
X-WR-TIMEZONE:Europe/Madrid
DESCRIPTION:No et perdis la sessió de cinema solidari amb el visionat de Mother of Apostles, una pel·lícula que narra la història d'una dona que busca el seu fill enmig del conflicte bèl·lic viscut a Ucraïna el 2014.

URI:https://www.calella.cat/actualitat/agenda/sessio-de-cinema-solidari-amb-la-projeccio-del-film-mother-of-apostles.html
CLASS:PUBLIC
END:VEVENT
END:VCALENDAR
