BEGIN:VCALENDAR
VERSION:2.0
CALSCALE:GREGORIAN
PRODID:-//Diputació de Barcelona//DibaCMS//EN
BEGIN:VEVENT
UID:4947
DTSTAMP:20260424T220447
DTSTART:20220715T180000
DTEND:20220715T190000
SUMMARY:Concert orquestra de vent, cor i swing band
LOCATION:Plaça de l'Església 08370 Calella
METHOD:PUBLISH
X-WR-CALNAME:calella@calella.cat
X-WR-TIMEZONE:Europe/Madrid
DESCRIPTION:No us perdeu el concert a càrrec del grup Ryde School with Upper Chine Music Department el proper 15 de juliol!

URI:https://www.calella.cat/actualitat/agenda/concert-orquestra-de-vent-cor-i-swing-band.html
CLASS:PUBLIC
END:VEVENT
END:VCALENDAR
