BEGIN:VCALENDAR
VERSION:2.0
CALSCALE:GREGORIAN
PRODID:-//Diputació de Barcelona//DibaCMS//EN
BEGIN:VEVENT
UID:4945
DTSTAMP:20260424T233644
DTSTART:20220708T180000
DTEND:20220708T210000
SUMMARY:Activitat LVDI ROMANORUM: jugar a la manera grecoromana 
LOCATION:c. Escoles Pies, 36 08370 Calella
METHOD:PUBLISH
X-WR-CALNAME:calella@calella.cat
X-WR-TIMEZONE:Europe/Madrid
DESCRIPTION:No us perdeu l'activitat lúdica que us permetrà endinsar-vos en l'antiguetat grecollatina, descobrint les petjades en altres que han anat transformant-se en el temps

URI:https://www.calella.cat/actualitat/agenda/activitat-lvdi-romanorum-jugar-a-la-manera-grecoromana-.html
CLASS:PUBLIC
END:VEVENT
END:VCALENDAR
