BEGIN:VCALENDAR
VERSION:2.0
CALSCALE:GREGORIAN
PRODID:-//Diputació de Barcelona//DibaCMS//EN
BEGIN:VEVENT
UID:4919
DTSTAMP:20260424T070225
DTSTART:20220610T190000
DTEND:20220610T200000
SUMMARY:Visita comentada a l'exposició "L'art de la Ciència, Jordi Sabater Pi"
LOCATION:c. Sant Pere, 122-140 08370 Calella
METHOD:PUBLISH
X-WR-CALNAME:calella@calella.cat
X-WR-TIMEZONE:Europe/Madrid
DESCRIPTION:La visita anirà a càrrec del Sr. Josep Oriol Sabater Coca, professor de dibuix i fill de Jordi Sabater Pi

URI:https://www.calella.cat/actualitat/agenda/visita-comentada-a-lexposicio-lart-de-la-ciencia-jordi-sabater-pi.html
CLASS:PUBLIC
END:VEVENT
END:VCALENDAR
