BEGIN:VCALENDAR
VERSION:2.0
CALSCALE:GREGORIAN
PRODID:-//Diputació de Barcelona//DibaCMS//EN
BEGIN:VEVENT
UID:4914
DTSTAMP:20260424T084244
DTSTART:20220607T000000
DTEND:20220612T000000
SUMMARY:Mostra de les donacions ingressades a l’Arxiu l’any 2021
LOCATION:c. Escoles Pies, 36 08370 Calella
METHOD:PUBLISH
X-WR-CALNAME:calella@calella.cat
X-WR-TIMEZONE:Europe/Madrid
DESCRIPTION:No et perdis la mostra de les donacions ingressades a l’Arxiu l’any 2021 la qual tindrà lloc al Museu Municipal de Calella del 7 de juny al 12 de juny!

URI:https://www.calella.cat/actualitat/agenda/mostra-de-les-donacions-ingressades-a-larxiu-lany-2021.html
CLASS:PUBLIC
END:VEVENT
END:VCALENDAR
