BEGIN:VCALENDAR
VERSION:2.0
CALSCALE:GREGORIAN
PRODID:-//Diputació de Barcelona//DibaCMS//EN
BEGIN:VEVENT
UID:4889
DTSTAMP:20260424T051946
DTSTART:20220520T000000
DTEND:20220904T000000
SUMMARY:Exposició "L'art de la ciència. Jordi Sabater Pi"
LOCATION:c. Sant Pere, 122-140 08370 Calella
METHOD:PUBLISH
X-WR-CALNAME:calella@calella.cat
X-WR-TIMEZONE:Europe/Madrid
DESCRIPTION:No et perdis l'exposició "L'art de la ciència. Jordi Sabater Pi", en la qual descobriràs la vessant més artística del conegut científic

URI:https://www.calella.cat/actualitat/agenda/exposicio-lart-de-la-ciencia-jordi-sabater-pi.html
CLASS:PUBLIC
END:VEVENT
END:VCALENDAR
