BEGIN:VCALENDAR
VERSION:2.0
CALSCALE:GREGORIAN
PRODID:-//Diputació de Barcelona//DibaCMS//EN
BEGIN:VEVENT
UID:4867
DTSTAMP:20260424T055013
DTSTART:20220427T180000
DTEND:20220524T133000
SUMMARY:Exposició "Visca la revolució"
LOCATION:Plaça de l'Ajuntament, 31 08370 Calella
METHOD:PUBLISH
X-WR-CALNAME:calella@calella.cat
X-WR-TIMEZONE:Europe/Madrid
DESCRIPTION:En aquesta exposició us trobareu un seguit de llibres amb personatges que decideixen revolucionar-se. Hi trobareu revolucions minúscules i intimes, però també algunes de majúscules i col·lectives. Totes trenquen una llança a favor dels canvis i de les millores de tot allò que ens envolta.

URI:https://www.calella.cat/actualitat/agenda/exposicio-visca-la-revolucio.html
CLASS:PUBLIC
END:VEVENT
END:VCALENDAR
