BEGIN:VCALENDAR
VERSION:2.0
CALSCALE:GREGORIAN
PRODID:-//Diputació de Barcelona//DibaCMS//EN
BEGIN:VEVENT
UID:4865
DTSTAMP:20260424T035957
DTSTART:20220514T000000
DTEND:20220515T000000
SUMMARY:Dia Internacional dels Museus
LOCATION:c. Sant Pere, 122-140 08370 Calella
METHOD:PUBLISH
X-WR-CALNAME:calella@calella.cat
X-WR-TIMEZONE:Europe/Madrid
DESCRIPTION:Gaudeix del Dia Internacional dels Museus aquest cap de setmana a Calella!

URI:https://www.calella.cat/actualitat/agenda/dia-internacional-dels-museus.html
CLASS:PUBLIC
END:VEVENT
END:VCALENDAR
