BEGIN:VCALENDAR
VERSION:2.0
CALSCALE:GREGORIAN
PRODID:-//Diputació de Barcelona//DibaCMS//EN
BEGIN:VEVENT
UID:4857
DTSTAMP:20260424T102806
DTSTART:20220528T180000
DTEND:20220529T140000
SUMMARY:Jornada de Portes obertes amb motiu de Moments de Flors
LOCATION:Carretera Nacional II, km. 666 08370 Calella
METHOD:PUBLISH
X-WR-CALNAME:calella@calella.cat
X-WR-TIMEZONE:Europe/Madrid
DESCRIPTION:Horari: de dimarts a dissabte 18.00 a 21.00h. Diumenge i festius 11- 14h.

Preus: visita normal 2 €. Visita reduïda 1 €. El primer diumenge de mes l’entrada és gratuïta.

URI:https://www.calella.cat/actualitat/agenda/jornada-de-portes-obertes-amb-motiu-de-moments-de-flors.html
CLASS:PUBLIC
END:VEVENT
END:VCALENDAR
