BEGIN:VCALENDAR
VERSION:2.0
CALSCALE:GREGORIAN
PRODID:-//Diputació de Barcelona//DibaCMS//EN
BEGIN:VEVENT
UID:4852
DTSTAMP:20260424T083548
DTSTART:20220529T080000
DTEND:20220529T150000
SUMMARY:Gran Fondo Calella Scott
LOCATION:des de la Riera Capaspre 
METHOD:PUBLISH
X-WR-CALNAME:calella@calella.cat
X-WR-TIMEZONE:Europe/Madrid
DESCRIPTION:Organitza: Sportevents 360º

URI:https://www.calella.cat/actualitat/agenda/gran-fondo-calella-scott.html
CLASS:PUBLIC
END:VEVENT
END:VCALENDAR
