BEGIN:VCALENDAR
VERSION:2.0
CALSCALE:GREGORIAN
PRODID:-//Diputació de Barcelona//DibaCMS//EN
BEGIN:VEVENT
UID:4851
DTSTAMP:20260424T131612
DTSTART:20220529T080000
DTEND:20220529T090000
SUMMARY:Marxa Solidària Oncolliga
LOCATION:c. Anselm Clavé, s/n 08370 Calella
METHOD:PUBLISH
X-WR-CALNAME:calella@calella.cat
X-WR-TIMEZONE:Europe/Madrid
DESCRIPTION:Organitza: Oncolliga Calella

URI:https://www.calella.cat/actualitat/agenda/marxa-solidaria-oncolliga.html
CLASS:PUBLIC
END:VEVENT
END:VCALENDAR
