BEGIN:VCALENDAR
VERSION:2.0
CALSCALE:GREGORIAN
PRODID:-//Diputació de Barcelona//DibaCMS//EN
BEGIN:VEVENT
UID:4850
DTSTAMP:20260424T101824
DTSTART:20220528T210000
DTEND:20220528T220000
SUMMARY:Recital Líric
LOCATION:a l’Església de l’Escola Pia 
METHOD:PUBLISH
X-WR-CALNAME:calella@calella.cat
X-WR-TIMEZONE:Europe/Madrid
DESCRIPTION:Laura Coll (soprano), Albert Deprius (tenor), Montse Pujol Dahme (piano)

URI:https://www.calella.cat/actualitat/agenda/recital-liric.html
CLASS:PUBLIC
END:VEVENT
END:VCALENDAR
