BEGIN:VCALENDAR
VERSION:2.0
CALSCALE:GREGORIAN
PRODID:-//Diputació de Barcelona//DibaCMS//EN
BEGIN:VEVENT
UID:4846
DTSTAMP:20260424T120658
DTSTART:20220527T080000
DTEND:20220527T090000
SUMMARY:Torneig de petanca
LOCATION:c. Anselm Clavé, s/n 08370 Calella
METHOD:PUBLISH
X-WR-CALNAME:calella@calella.cat
X-WR-TIMEZONE:Europe/Madrid
DESCRIPTION:Organitza: Hotel President. Per a més informació, al telèfon 93 769 19 91.

URI:https://www.calella.cat/actualitat/agenda/4846-torneig-de-petanca.html
CLASS:PUBLIC
END:VEVENT
END:VCALENDAR
