BEGIN:VCALENDAR
VERSION:2.0
CALSCALE:GREGORIAN
PRODID:-//Diputació de Barcelona//DibaCMS//EN
BEGIN:VEVENT
UID:4840
DTSTAMP:20260424T114838
DTSTART:20220525T183000
DTEND:20220525T193000
SUMMARY:Conferència: L’expedició de Sir John Franklin: la gran tragèdia de l’exploració Àrtica
LOCATION:c. Sant Jaume, 225-229 08370 Calella
METHOD:PUBLISH
X-WR-CALNAME:calella@calella.cat
X-WR-TIMEZONE:Europe/Madrid
DESCRIPTION:a càrrec del Sr Francesc Bailón, llicenciat en Antropologia Cultural per la Universitat de Barcelona, especialitzat en la cultura inuit. 

URI:https://www.calella.cat/actualitat/agenda/conferencia-lexpedicio-de-sir-john-franklin-la-gran-tragedia-de-lexploracio-artica.html
CLASS:PUBLIC
END:VEVENT
END:VCALENDAR
