BEGIN:VCALENDAR
VERSION:2.0
CALSCALE:GREGORIAN
PRODID:-//Diputació de Barcelona//DibaCMS//EN
BEGIN:VEVENT
UID:4831
DTSTAMP:20260424T101045
DTSTART:20220522T103000
DTEND:20220522T183000
SUMMARY:Sidral Solidari 2022. L’aigua, l’emergència climàtica, els refugiats ambientals
LOCATION:c. Anselm Clavé, s/n 08370 Calella
METHOD:PUBLISH
X-WR-CALNAME:calella@calella.cat
X-WR-TIMEZONE:Europe/Madrid
DESCRIPTION:Organitza: Consell Municipal de la Solidaritat i Ajuntament de Calella. Col·labora: Espai Jove, Associació Joves Calella 2020, Fundació 3r Món Mataró, Enginyeria sense Fronteres, Coordinadora d'ONG Solidàries, Artesà de la cuina.

URI:https://www.calella.cat/actualitat/agenda/sidral-solidari-2022-laigua-lemergencia-climatica-els-refugiats-ambientals.html
CLASS:PUBLIC
END:VEVENT
END:VCALENDAR
