BEGIN:VCALENDAR
VERSION:2.0
CALSCALE:GREGORIAN
PRODID:-//Diputació de Barcelona//DibaCMS//EN
BEGIN:VEVENT
UID:4828
DTSTAMP:20260424T053612
DTSTART:20220521T170000
DTEND:20220521T190000
SUMMARY:Activa’t el finde: Festival de música urbana
LOCATION:al Pati de l’Ós 
METHOD:PUBLISH
X-WR-CALNAME:calella@calella.cat
X-WR-TIMEZONE:Europe/Madrid
DESCRIPTION:Micro lliure i concerts de Rap, Trap i Drill. 

URI:https://www.calella.cat/actualitat/agenda/activat-el-finde-festival-de-musica-urbana.html
CLASS:PUBLIC
END:VEVENT
END:VCALENDAR
