BEGIN:VCALENDAR
VERSION:2.0
CALSCALE:GREGORIAN
PRODID:-//Diputació de Barcelona//DibaCMS//EN
BEGIN:VEVENT
UID:4827
DTSTAMP:20260424T052027
DTSTART:20220521T070000
DTEND:20220521T080000
SUMMARY:Rutes pels voltants de Calella
LOCATION:Passeig Marítim (davant estació RENFE) 08370 Calella
METHOD:PUBLISH
X-WR-CALNAME:calella@calella.cat
X-WR-TIMEZONE:Europe/Madrid
DESCRIPTION:Organitza: Associació Calella-Marxa.

URI:https://www.calella.cat/actualitat/agenda/4827-rutes-pels-voltants-de-calella.html
CLASS:PUBLIC
END:VEVENT
END:VCALENDAR
