BEGIN:VCALENDAR
VERSION:2.0
CALSCALE:GREGORIAN
PRODID:-//Diputació de Barcelona//DibaCMS//EN
BEGIN:VEVENT
UID:4825
DTSTAMP:20260424T052702
DTSTART:20220520T180000
DTEND:20220520T190000
SUMMARY:Taller de defensa personal
LOCATION:c. Sant Jaume, 225-229 08370 Calella
METHOD:PUBLISH
X-WR-CALNAME:calella@calella.cat
X-WR-TIMEZONE:Europe/Madrid
DESCRIPTION:Necessària inscripció prèvia.

URI:https://www.calella.cat/actualitat/agenda/taller-de-defensa-personal.html
CLASS:PUBLIC
END:VEVENT
END:VCALENDAR
