BEGIN:VCALENDAR
VERSION:2.0
CALSCALE:GREGORIAN
PRODID:-//Diputació de Barcelona//DibaCMS//EN
BEGIN:VEVENT
UID:4824
DTSTAMP:20260424T071048
DTSTART:20220519T180000
DTEND:20220519T190000
SUMMARY:Bibliolab, Taller d’escriptura creativa per a joves
LOCATION:Plaça de l'Ajuntament, 31 08370 Calella
METHOD:PUBLISH
X-WR-CALNAME:calella@calella.cat
X-WR-TIMEZONE:Europe/Madrid
DESCRIPTION:Taller adreçat a nois i noies d’entre 12 i 17 anys que vulguin apropar-se a l’escriptura.

URI:https://www.calella.cat/actualitat/agenda/bibliolab-taller-descriptura-creativa-per-a-joves.html
CLASS:PUBLIC
END:VEVENT
END:VCALENDAR
