BEGIN:VCALENDAR
VERSION:2.0
CALSCALE:GREGORIAN
PRODID:-//Diputació de Barcelona//DibaCMS//EN
BEGIN:VEVENT
UID:4819
DTSTAMP:20260424T220728
DTSTART:20220518T183000
DTEND:20220518T193000
SUMMARY:Conferència: Jaume Plensa
LOCATION:c. Sant Jaume, 225-229 08370 Calella
METHOD:PUBLISH
X-WR-CALNAME:calella@calella.cat
X-WR-TIMEZONE:Europe/Madrid
DESCRIPTION:A càrrec de la Sra. Mariona Millà, Pintora i escriptora

URI:https://www.calella.cat/actualitat/agenda/conferencia-jaume-plensa.html
CLASS:PUBLIC
END:VEVENT
END:VCALENDAR
