BEGIN:VCALENDAR
VERSION:2.0
CALSCALE:GREGORIAN
PRODID:-//Diputació de Barcelona//DibaCMS//EN
BEGIN:VEVENT
UID:4818
DTSTAMP:20260424T162138
DTSTART:20220518T180000
DTEND:20220518T190000
SUMMARY:Hora del Conte 
LOCATION:Plaça de l'Ajuntament, 31 08370 Calella
METHOD:PUBLISH
X-WR-CALNAME:calella@calella.cat
X-WR-TIMEZONE:Europe/Madrid
DESCRIPTION:La casa del vent

 

URI:https://www.calella.cat/actualitat/agenda/hora-del-conte-.html
CLASS:PUBLIC
END:VEVENT
END:VCALENDAR
