BEGIN:VCALENDAR
VERSION:2.0
CALSCALE:GREGORIAN
PRODID:-//Diputació de Barcelona//DibaCMS//EN
BEGIN:VEVENT
UID:4814
DTSTAMP:20260424T162059
DTSTART:20220517T183000
DTEND:20220517T193000
SUMMARY:Grup de conversa en anglès
LOCATION:Plaça de l'Ajuntament, 31 08370 Calella
METHOD:PUBLISH
X-WR-CALNAME:calella@calella.cat
X-WR-TIMEZONE:Europe/Madrid
DESCRIPTION:The lovely people club a càrrec de Siân Mathias.

URI:https://www.calella.cat/actualitat/agenda/4814-grup-de-conversa-en-angles.html
CLASS:PUBLIC
END:VEVENT
END:VCALENDAR
