BEGIN:VCALENDAR
VERSION:2.0
CALSCALE:GREGORIAN
PRODID:-//Diputació de Barcelona//DibaCMS//EN
BEGIN:VEVENT
UID:4813
DTSTAMP:20260424T220620
DTSTART:20220517T170000
DTEND:20220517T200000
SUMMARY:Festa del Reciclatge
LOCATION:Plaça de l'Església 08370 Calella
METHOD:PUBLISH
X-WR-CALNAME:calella@calella.cat
X-WR-TIMEZONE:Europe/Madrid
DESCRIPTION:Amb motiu del Dia Mundial del Reciclatge

URI:https://www.calella.cat/actualitat/agenda/festa-del-reciclatge.html
CLASS:PUBLIC
END:VEVENT
END:VCALENDAR
