BEGIN:VCALENDAR
VERSION:2.0
CALSCALE:GREGORIAN
PRODID:-//Diputació de Barcelona//DibaCMS//EN
BEGIN:VEVENT
UID:4807
DTSTAMP:20260424T115751
DTSTART:20220514T210000
DTEND:20220514T220000
SUMMARY:Les Fronteres Invisibles   
LOCATION:a l’Església de l’Escola Pia  
METHOD:PUBLISH
X-WR-CALNAME:calella@calella.cat
X-WR-TIMEZONE:Europe/Madrid
DESCRIPTION:Rosa Mari Ramírez i Montserrat Seró (sopranos) i Esther Pinyol (Arpa).

URI:https://www.calella.cat/actualitat/agenda/les-fronteres-invisibles-.html
CLASS:PUBLIC
END:VEVENT
END:VCALENDAR
