BEGIN:VCALENDAR
VERSION:2.0
CALSCALE:GREGORIAN
PRODID:-//Diputació de Barcelona//DibaCMS//EN
BEGIN:VEVENT
UID:4804
DTSTAMP:20260424T131716
DTSTART:20220514T110000
DTEND:20220514T210000
SUMMARY:Inflables infantils
LOCATION:Plaça de l'Església 08370 Calella
METHOD:PUBLISH
X-WR-CALNAME:calella@calella.cat
X-WR-TIMEZONE:Europe/Madrid
DESCRIPTION:dins de “La botiga al carrer està de moda”. Horari: d' 11.00h a 14.00h i de 16.00h a 21.00h.

URI:https://www.calella.cat/actualitat/agenda/inflables-infantils.html
CLASS:PUBLIC
END:VEVENT
END:VCALENDAR
