BEGIN:VCALENDAR
VERSION:2.0
CALSCALE:GREGORIAN
PRODID:-//Diputació de Barcelona//DibaCMS//EN
BEGIN:VEVENT
UID:4799
DTSTAMP:20260424T040211
DTSTART:20220513T210000
DTEND:20220513T220000
SUMMARY:Cineclub
LOCATION:c. Sant Jaume, 225-229 08370 Calella
METHOD:PUBLISH
X-WR-CALNAME:calella@calella.cat
X-WR-TIMEZONE:Europe/Madrid
DESCRIPTION:Pel·lícula Drive my Car 

URI:https://www.calella.cat/actualitat/agenda/4799-cineclub.html
CLASS:PUBLIC
END:VEVENT
END:VCALENDAR
