BEGIN:VCALENDAR
VERSION:2.0
CALSCALE:GREGORIAN
PRODID:-//Diputació de Barcelona//DibaCMS//EN
BEGIN:VEVENT
UID:4798
DTSTAMP:20260424T040114
DTSTART:20220513T180000
DTEND:20220513T190000
SUMMARY:Presentació llibre infantil El llarg viatge d'en Joan Miró
LOCATION:Plaça de l'Ajuntament, 31 08370 Calella
METHOD:PUBLISH
X-WR-CALNAME:calella@calella.cat
X-WR-TIMEZONE:Europe/Madrid
DESCRIPTION:És la història d’un nen fascinat per l’art i la natura; un nen que des de ben petit va perseguir un somni amb tossuderia i va acabar convertint-se en un dels artistes més reconeguts d’arreu del món de Gemma Gallardo.

URI:https://www.calella.cat/actualitat/agenda/presentacio-llibre-infantil-el-llarg-viatge-den-joan-miro.html
CLASS:PUBLIC
END:VEVENT
END:VCALENDAR
