BEGIN:VCALENDAR
VERSION:2.0
CALSCALE:GREGORIAN
PRODID:-//Diputació de Barcelona//DibaCMS//EN
BEGIN:VEVENT
UID:4796
DTSTAMP:20260424T041113
DTSTART:20220512T173000
DTEND:20220512T183000
SUMMARY:“Tens instagram només per penjar-hi fotos? Treu-ne profit per buscar feina”
LOCATION:
METHOD:PUBLISH
X-WR-CALNAME:calella@calella.cat
X-WR-TIMEZONE:Europe/Madrid
DESCRIPTION:Taller virtual

URI:https://www.calella.cat/actualitat/agenda/4796-tens-instagram-nomes-per-penjar-hi-fotos-treu-ne-profit-per-buscar-feina.html
CLASS:PUBLIC
END:VEVENT
END:VCALENDAR
