BEGIN:VCALENDAR
VERSION:2.0
CALSCALE:GREGORIAN
PRODID:-//Diputació de Barcelona//DibaCMS//EN
BEGIN:VEVENT
UID:4792
DTSTAMP:20260424T035722
DTSTART:20220511T183000
DTEND:20220511T193000
SUMMARY:Conferència: Millorar les energies renovables avui dia
LOCATION:c. Sant Jaume, 225-229 08370 Calella
METHOD:PUBLISH
X-WR-CALNAME:calella@calella.cat
X-WR-TIMEZONE:Europe/Madrid
DESCRIPTION:A càrrec de la Sra. Assumpta Farran, directora general d’Energia, llicenciada en Ciències Físiques en l’especialitat de Física de l’Atmosfera i Geofísica per la Universitat de Barcelona.

URI:https://www.calella.cat/actualitat/agenda/conferencia-millorar-les-energies-renovables-avui-dia.html
CLASS:PUBLIC
END:VEVENT
END:VCALENDAR
