BEGIN:VCALENDAR
VERSION:2.0
CALSCALE:GREGORIAN
PRODID:-//Diputació de Barcelona//DibaCMS//EN
BEGIN:VEVENT
UID:4791
DTSTAMP:20260424T005236
DTSTART:20220506T180000
DTEND:20220506T190000
SUMMARY:Visita comentada de l'exposició "Marca Hispànica. La Catalunya Carolíngia (759-987)"
LOCATION:c. Jovara, 39 08370 Calella
METHOD:PUBLISH
X-WR-CALNAME:calella@calella.cat
X-WR-TIMEZONE:Europe/Madrid
DESCRIPTION:La visita anirà a càrrec de Víctor Hurtado, doctor en Història Medieval, cartògraf i comissari de l'exposició

URI:https://www.calella.cat/actualitat/agenda/visita-comentada-de-lexposicio-marca-hispanica-la-catalunya-carolingia-759-987.html
CLASS:PUBLIC
END:VEVENT
END:VCALENDAR
