BEGIN:VCALENDAR
VERSION:2.0
CALSCALE:GREGORIAN
PRODID:-//Diputació de Barcelona//DibaCMS//EN
BEGIN:VEVENT
UID:4783
DTSTAMP:20260424T035855
DTSTART:20220510T180000
DTEND:20220510T190000
SUMMARY:Taller cuina sense pares
LOCATION:c. Sant Jaume, 225-229 08370 Calella
METHOD:PUBLISH
X-WR-CALNAME:calella@calella.cat
X-WR-TIMEZONE:Europe/Madrid
DESCRIPTION:Taller de cuina que s'inicia amb una breu explicació i una sèrie de consells sobre alimentació saludable, per passar a elaborar tres receptes fàcils, ràpides, saludables i econòmiques.

URI:https://www.calella.cat/actualitat/agenda/taller-cuina-sense-pares.html
CLASS:PUBLIC
END:VEVENT
END:VCALENDAR
