BEGIN:VCALENDAR
VERSION:2.0
CALSCALE:GREGORIAN
PRODID:-//Diputació de Barcelona//DibaCMS//EN
BEGIN:VEVENT
UID:4778
DTSTAMP:20260424T005034
DTSTART:20220509T100000
DTEND:20220509T140000
SUMMARY:Taller “T’apuntes a fer un escape room? Descobriràs les teves competències professionals”
LOCATION:c. Sant Jaume, 225-229 08370 Calella
METHOD:PUBLISH
X-WR-CALNAME:calella@calella.cat
X-WR-TIMEZONE:Europe/Madrid
DESCRIPTION:El curs es realitzarà els dies 9, 11 i 13 de maig. 

URI:https://www.calella.cat/actualitat/agenda/taller-tapuntes-a-fer-un-escape-room-descobriras-les-teves-competencies-professionals.html
CLASS:PUBLIC
END:VEVENT
END:VCALENDAR
