BEGIN:VCALENDAR
VERSION:2.0
CALSCALE:GREGORIAN
PRODID:-//Diputació de Barcelona//DibaCMS//EN
BEGIN:VEVENT
UID:4775
DTSTAMP:20260424T040015
DTSTART:20220508T100000
DTEND:20220508T220000
SUMMARY:Fira Renaixentista
LOCATION:Plaça de l'Ajuntament 08370 Calella
METHOD:PUBLISH
X-WR-CALNAME:calella@calella.cat
X-WR-TIMEZONE:Europe/Madrid
DESCRIPTION:Organitza: Calella Fires   

URI:https://www.calella.cat/actualitat/agenda/4775-fira-renaixentista.html
CLASS:PUBLIC
END:VEVENT
END:VCALENDAR
